BEGIN:VCALENDAR
VERSION:2.0
PRODID:-//wp-events-plugin.com//7.2.3.1//EN
TZID:Europe/Madrid
X-WR-TIMEZONE:Europe/Madrid
BEGIN:VEVENT
UID:0-16@blogs.santosochoa.es
DTSTART;TZID=Europe/Madrid:20181110T120000
DTEND;TZID=Europe/Madrid:20181110T130000
DTSTAMP:20181023T103451Z
URL:https://blogs.santosochoa.es/salamanca/eventos/teresa-no-quiere-ser-pr
 incesa-cuentos-infantiles-sin-estereotipos/
SUMMARY:"Teresa no quiere ser princesa"\, cuentos infantiles sin estereotip
 os
DESCRIPTION:La Editorial Cuatro Tuercas trae a Salamanca unos cuentos infan
 tiles muy especiales para disfrutar en familia. En la serie Érase dos vec
 es nos proponen originales versiones de los cuentos clásicos\, pero libre
 s de prejuicios y estereotipos de género. En la serie Ande yo valiente en
 contramos historias donde niños y niñas podrán disfrutar de relatos edu
 cativos escritos desde los valores de la igualdad.\nEn esta charla y cuent
 acuentos familiar\, nos explicarán brevemente cómo se construyen los est
 ereotipos de género en la infancia\, con una muestra de los roles masculi
 nos y femeninos tradicionales que se cuentan en los clásicos\, y ejemplos
  de cómo estos cuentos pueden contarse de otra manera. Y\, como la mejor 
 muestra es un botón\, disfrutaremos del cuento Teresa no quiere ser princ
 esa relatado por sus creadores y con la técnica japonesa del Kamishibai.\
 nEdad recomendada: familias con niños a partir de 4 años\nEntrada libre\
 nPablo Macías y Belén Gaudés son publicistas que han trabajado en grand
 es y pequeñas agencias antes de montar su pequeña ferretería de ideas a
  la que llamaron Cuatro Tuercas. Además son padres preocupados por los co
 ntenidos que los cuentos transmiten a sus hijos. Creen firmemente que la l
 ucha por la igualdad tiene que venir acompañada de un cambio en la forma 
 de educar a los niñxs. Luchan por la conciliación personal y familiar\, 
 que ha de pasar por la corresponsabilidad real entre mujeres y hombres. So
 n luchadores\, cabezotas e idealistas.
ATTACH;FMTTYPE=image/jpeg:https://blogs.santosochoa.es/salamanca/wp-conten
 t/uploads/sites/3/2018/10/teresa-no-quiere-ser-princesa.jpg
LOCATION:Santos Ochoa. Gran Vía\, 10-12. Salamanca\, Gran Vía\, 12\, Sala
 manca\, España
X-APPLE-STRUCTURED-LOCATION;VALUE=URI;X-ADDRESS=Gran Vía\, 12\, Salamanca\
 , España;X-APPLE-RADIUS=100;X-TITLE=Santos Ochoa. Gran Vía\, 10-12. Sala
 manca:geo:0,0
END:VEVENT
BEGIN:VTIMEZONE
TZID:Europe/Madrid
X-LIC-LOCATION:Europe/Madrid
BEGIN:STANDARD
DTSTART:20181028T020000
TZOFFSETFROM:+0200
TZOFFSETTO:+0100
TZNAME:CET
END:STANDARD
END:VTIMEZONE
END:VCALENDAR