BEGIN:VCALENDAR
VERSION:2.0
PRODID:-//wp-events-plugin.com//7.2.3.1//EN
TZID:Europe/Madrid
X-WR-TIMEZONE:Europe/Madrid
BEGIN:VEVENT
UID:0-104@blogs.santosochoa.es
DTSTART;TZID=Europe/Madrid:20190803T124500
DTEND;TZID=Europe/Madrid:20190803T140000
DTSTAMP:20190726T105418Z
URL:https://blogs.santosochoa.es/salamanca/eventos/taller-de-kirigami-2/
SUMMARY:Taller infantil de kirigami. Sábado 3\, de 11 a 14 años
DESCRIPTION:TALLER DE KIRIGAMI\nSábado 3 de agosto.\nA las 11:00 h\nDe 11 
 a 14 años\n&nbsp\;\n\nLibrería Santos Ochoa. Gran Vía\, 12.\n\n&nbsp\;\
 nDescubre la técnica del kirigami para crear tus propios libros y tarjeta
 s pop-up. Si te gustan las manualidades\, el diseño y la ilustración ¡t
 e encantará este taller!\n&nbsp\;\n\nInscripciones on-line\, pincha aquí
 .\n\nEs necesario que los niños dispongan de un cúter para poder realiza
 r la actividad. Si no tienen uno\, podrán adquirirlo en la tienda.\n
ATTACH;FMTTYPE=image/jpeg:https://blogs.santosochoa.es/salamanca/wp-conten
 t/uploads/sites/3/2019/07/kirigami.jpg
LOCATION:Santos Ochoa. Gran Vía\, 10-12. Salamanca\, Gran Vía\, 12\, Sala
 manca\, España
X-APPLE-STRUCTURED-LOCATION;VALUE=URI;X-ADDRESS=Gran Vía\, 12\, Salamanca\
 , España;X-APPLE-RADIUS=100;X-TITLE=Santos Ochoa. Gran Vía\, 10-12. Sala
 manca:geo:0,0
END:VEVENT
BEGIN:VTIMEZONE
TZID:Europe/Madrid
X-LIC-LOCATION:Europe/Madrid
BEGIN:DAYLIGHT
DTSTART:20190331T030000
TZOFFSETFROM:+0100
TZOFFSETTO:+0200
TZNAME:CEST
END:DAYLIGHT
END:VTIMEZONE
END:VCALENDAR