BEGIN:VCALENDAR
VERSION:2.0
PRODID:-//wp-events-plugin.com//7.2.3.1//EN
TZID:Europe/Madrid
X-WR-TIMEZONE:Europe/Madrid
BEGIN:VEVENT
UID:0-403@blogs.santosochoa.es
DTSTART;TZID=Europe/Madrid:20260521T190000
DTEND;TZID=Europe/Madrid:20260521T203000
DTSTAMP:20260420T111441Z
URL:https://blogs.santosochoa.es/salamanca/eventos/roberto-sanchez-nieto-e
 l-canto-de-las-reinas-virgenes/
SUMMARY:Roberto Sánchez Nieto presenta "El canto de las reinas vírgenes"
DESCRIPTION:Con Félix Nieto Ballesteros.\n\n&nbsp\;\n¿Quién fue el capit
 án John Smith? ¿Y Pocahontas…? Hacia la segunda mitad del siglo XIX al
 gunos historiadores estadounidenses cuestionaron la veracidad de los diari
 os del mercenario Smith. ¿Las gloriosas hazañas narradas por su protagon
 ista lo serían realmente de haber sido relatadas por un tercero?\nLa obra
  que aquí se presenta nos ofrece «otra» versión de la historia. Desde 
 los ojos del pícaro Philip Johnson viajaremos por un Londres brutal\, cuy
 a bienvenida corre a cargo de las cabezas cortadas de los reos. Pero es ta
 mbién el Londres de Shakespeare\, de las representaciones en The Globe\, 
 de las apuestas y luchas callejeras entre lebreles españoles y osos de Mo
 scovia. Un Londres marcado por la represión religiosa y las ejecuciones p
 úblicas. La irrupción inglesa en los territorios de Norteamérica arranc
 a en este contexto y se nos ofrece en esta novela tan cruda y desnuda como
  la vida misma. Cotidianas\, ridículas\, sarcásticas y a menudo contradi
 ctorias\, las crónicas del pícaro Philip Johnson nos pintan un sombrío 
 panorama para los ingleses en el suelo de Pocahontas. Cuesta imaginar cóm
 o sería hoy el mundo si los británicos no hubiesen logrado por fin prosp
 erar en el continente norteamericano y\, sin embargo\, sus colonias fracas
 aron una y otra vez. Alguien pareció ayudar a aquellos colonos ingleses e
 n sus ambiciones territoriales y no fueron precisamente los naturales de l
 as tierras vírgenes…\n\n&nbsp\;\n\nRoberto Sánchez Nieto. Salamanca\, 
 1973. Observador innato de la psique humana y social\, ha cursado estudios
  en la Universidad de Salamanca en las materias de Filosofía\, Lógica\, 
 Antropología\, Historia y Lengua Española\, entre otras. Lector insaciab
 le y ecléctico\, ha tocado los más diversos palos de la creación litera
 ria: poesía\, haiku\, microrrelato\, relato\, cuento\, novela\, teatro y 
 zarzuela. Algunas de sus obras han sido representadas en escenarios tan pr
 ivilegiados como la Catedral: Muñecas rotas o el Teatro Liceo de Salama
 nca: Shock. Actualmente escribe y adapta obras para la compañía salmant
 ina Komo Teatro.
ATTACH;FMTTYPE=image/jpeg:https://blogs.santosochoa.es/salamanca/wp-conten
 t/uploads/sites/3/2026/04/el-canto-de-las-reinas-virgenes_Roberto-Sanchez-
 Nieto.jpg
LOCATION:Santos Ochoa. Gran Vía\, 10-12. Salamanca\, Gran Vía\, 12\, Sala
 manca\, España
X-APPLE-STRUCTURED-LOCATION;VALUE=URI;X-ADDRESS=Gran Vía\, 12\, Salamanca\
 , España;X-APPLE-RADIUS=100;X-TITLE=Santos Ochoa. Gran Vía\, 10-12. Sala
 manca:geo:0,0
END:VEVENT
BEGIN:VTIMEZONE
TZID:Europe/Madrid
X-LIC-LOCATION:Europe/Madrid
BEGIN:DAYLIGHT
DTSTART:20260329T030000
TZOFFSETFROM:+0100
TZOFFSETTO:+0200
TZNAME:CEST
END:DAYLIGHT
END:VTIMEZONE
END:VCALENDAR