BEGIN:VCALENDAR
VERSION:2.0
PRODID:-//wp-events-plugin.com//7.2.3.1//EN
TZID:Europe/Madrid
X-WR-TIMEZONE:Europe/Madrid
BEGIN:VEVENT
UID:0-401@blogs.santosochoa.es
DTSTART;TZID=Europe/Madrid:20260508T193000
DTEND;TZID=Europe/Madrid:20260508T210000
DTSTAMP:20260420T111013Z
URL:https://blogs.santosochoa.es/salamanca/eventos/rafael-pisot-y-omen-edi
 ciones/
SUMMARY:Rafael Pisot y Omen Ediciones presentan "La mariposa negra" y "Yo t
 ambién viví en el comunismo"
DESCRIPTION:El traductor salmantino Rafael Pisot y la editora Oana Mosniagu
  nos presentan las últimas publicaciones de Omen Ediciones.\n\n&nbsp\;\nL
 a mariposa negra\, de Radu Paraschivescu\nEn la Roma de comienzos del sigl
 o XVII\, entre taberneros\, marqueses\, prostitutas y cardenales\, tahúre
 s y mercaderes\, Michelangelo Merisi\, alias Caravaggio\, derriba los cán
 ones y prende fuego a los prejuicios. Sus modelos provienen de burdeles\, 
 cárceles o tabernas\; sus amigos lo acompañan en tertulias regadas con v
 ino y en peleas a la vuelta de cualquier esquina. Caravaggio es un condena
 do con manos de ángel y un pecador atormentado por sus obsesiones. Una de
  ellas lo visita cada vez con más frecuencia: la mariposa negra\, una cri
 atura onírica que el artista\, en un ritual de exorcismo\, quiere plasmar
  sobre el lienzo.\nYo también viví en el comunismo\, de Ioana Pârvulesc
 u\nEscritores\, médicos\, actores\, ingenieros\, obreros y profesores rec
 uerdan hechos diversos del hogar\, el trabajo\, las vacaciones\, la escuel
 a\, la universidad\, el trabajo patriótico o los viajes\, desde problemas
  administrativos hasta el amor\, pasando por las carencias del día a día
  y todo lo relacionado con la vida misma. Una obra coral única y un docum
 ento histórico que rescata la memoria íntima de Rumanía bajo la dictadu
 ra. Se puede leer como una novela (sus fragmentos se entrelazan en una his
 toria dramática)\, como una película llena de situaciones disparatadas e
  imposibles\, del tipo Good Bye\, Lenin!\, o de forma aleatoria\, para los
  más impacientes.
ATTACH;FMTTYPE=image/jpeg:https://blogs.santosochoa.es/salamanca/wp-conten
 t/uploads/sites/3/2026/04/Carteles-Agenda-SAL_202605_1.jpg
LOCATION:Santos Ochoa. Gran Vía\, 10-12. Salamanca\, Gran Vía\, 12\, Sala
 manca\, España
X-APPLE-STRUCTURED-LOCATION;VALUE=URI;X-ADDRESS=Gran Vía\, 12\, Salamanca\
 , España;X-APPLE-RADIUS=100;X-TITLE=Santos Ochoa. Gran Vía\, 10-12. Sala
 manca:geo:0,0
END:VEVENT
BEGIN:VTIMEZONE
TZID:Europe/Madrid
X-LIC-LOCATION:Europe/Madrid
BEGIN:DAYLIGHT
DTSTART:20260329T030000
TZOFFSETFROM:+0100
TZOFFSETTO:+0200
TZNAME:CEST
END:DAYLIGHT
END:VTIMEZONE
END:VCALENDAR