BEGIN:VCALENDAR
VERSION:2.0
PRODID:-//wp-events-plugin.com//7.2.3.1//EN
TZID:Europe/Madrid
X-WR-TIMEZONE:Europe/Madrid
BEGIN:VEVENT
UID:0-402@blogs.santosochoa.es
DTSTART;TZID=Europe/Madrid:20260519T183000
DTEND;TZID=Europe/Madrid:20260519T203000
DTSTAMP:20260420T111310Z
URL:https://blogs.santosochoa.es/salamanca/eventos/firma-de-libros-de-juan
 -gomez-jurado-mentira/
SUMMARY:Firma de libros de Juan Gómez Jurado. "Mentira"
DESCRIPTION:Firma limitada a 120 personas. Máximo 2 libros por persona.\n\
 n&nbsp\;\n«Mi trabajo es mentir\, pero contigo no voy a hacerlo. Respeto 
 demasiado tu inteligencia. O quizás es el miedo a la muerte inminente lo 
 que hace que te diga la verdad. A ti no voy a mentirte\, aunque vas a obse
 rvarme mentir a otras personas. Te garantizo que no has visto nunca nada i
 gual. No me llamo Eva Ramos. Tú vas a llamarme así.»\n&nbsp\;\n\nJuan G
 ómez-Jurado (Madrid\, 1977) es periodista y autor de varias novelas de g
 ran éxito\, traducidas a cuarenta lenguas. Las obras sobre el Universo Re
 ina Roja (El paciente\, Cicatriz\, Reina Roja\, Loba Negra\, Rey Blanc
 o\, Todo arde\, Todo vuelve y Todo muere\, todas ellas publicadas en E
 diciones B) se han convertido en el mayor fenómeno de ventas del thriller
  español de los últimos años y han consagrado a su autor como uno de lo
 s máximos exponentes del género en todo el mundo. La adaptación audiovi
 sual de Reina Roja (Prime) fue la serie española más vista de la histo
 ria a nivel internacional en la semana de su estreno.\n\nActualmente colab
 ora con varios medios y es cocreador de los podcast Todopoderosos y Aqu
 í hay dragones.
ATTACH;FMTTYPE=image/jpeg:https://blogs.santosochoa.es/salamanca/wp-conten
 t/uploads/sites/3/2026/04/mentira_Juan-Gomez-Jurado.jpg
LOCATION:Santos Ochoa. Gran Vía\, 10-12. Salamanca\, Gran Vía\, 12\, Sala
 manca\, España
X-APPLE-STRUCTURED-LOCATION;VALUE=URI;X-ADDRESS=Gran Vía\, 12\, Salamanca\
 , España;X-APPLE-RADIUS=100;X-TITLE=Santos Ochoa. Gran Vía\, 10-12. Sala
 manca:geo:0,0
END:VEVENT
BEGIN:VTIMEZONE
TZID:Europe/Madrid
X-LIC-LOCATION:Europe/Madrid
BEGIN:DAYLIGHT
DTSTART:20260329T030000
TZOFFSETFROM:+0100
TZOFFSETTO:+0200
TZNAME:CEST
END:DAYLIGHT
END:VTIMEZONE
END:VCALENDAR