BEGIN:VCALENDAR
VERSION:2.0
PRODID:-//wp-events-plugin.com//7.2.3.1//EN
TZID:Europe/Madrid
X-WR-TIMEZONE:Europe/Madrid
BEGIN:VEVENT
UID:0-755@blogs.santosochoa.es
DTSTART;TZID=Europe/Madrid:20250523T173000
DTEND;TZID=Europe/Madrid:20250523T210000
DTSTAMP:20250509T093402Z
URL:https://blogs.santosochoa.es/logrono/eventos/sara-garcia-alonso-y-prem
 ios-ur/
SUMMARY:Encuentro con Sara García Alonso y entrega de premios del Concurso
  Científico-Literario de la Universidad de La Rioja
DESCRIPTION:La velada tendrá una charla científica\, una charla científi
 co-literaria y el reconocimiento a los ganadores del concurso.
ATTACH;FMTTYPE=image/jpeg:https://blogs.santosochoa.es/logrono/wp-content/
 uploads/sites/2/2025/04/orbitas_Sara-Garcia-Alonso.jpg
LOCATION:Santos Ochoa CALVO SOTELO\, 19 (y en YouTube)\, Calvo Sotelo\, 19\
 , Logroño\, España
X-APPLE-STRUCTURED-LOCATION;VALUE=URI;X-ADDRESS=Calvo Sotelo\, 19\, Logroñ
 o\, España;X-APPLE-RADIUS=100;X-TITLE=Santos Ochoa CALVO SOTELO\, 19 (y e
 n YouTube):geo:0,0
END:VEVENT
BEGIN:VTIMEZONE
TZID:Europe/Madrid
X-LIC-LOCATION:Europe/Madrid
BEGIN:DAYLIGHT
DTSTART:20250330T030000
TZOFFSETFROM:+0100
TZOFFSETTO:+0200
TZNAME:CEST
END:DAYLIGHT
END:VTIMEZONE
END:VCALENDAR