BEGIN:VCALENDAR
VERSION:2.0
PRODID:-//wp-events-plugin.com//7.2.3.1//EN
TZID:Europe/Madrid
X-WR-TIMEZONE:Europe/Madrid
BEGIN:VEVENT
UID:0-847@blogs.santosochoa.es
DTSTART;TZID=Europe/Madrid:20260519T180000
DTEND;TZID=Europe/Madrid:20260519T190000
DTSTAMP:20260420T105533Z
URL:https://blogs.santosochoa.es/logrono/eventos/mayo-musical-guitarra-pic
 colo-y-saxo/
SUMMARY:Mayo Musical. Agrupaciones de guitarra de Piccolo y Saxo
DESCRIPTION:Cuando las guitarras suenan\, el espacio se transforma. Las cue
 rdas dialogan entre sí y el sonido se entrelaza\, creando un paisaje musi
 cal lleno de ritmo y emoción.\nJóvenes intérpretes compartirán su tale
 nto y el trabajo conjunto de todo un curso\, mostrando cómo la música un
 e y da forma a experiencias colectivas. Con un repertorio variado viajarem
 os por diferentes momentos de la historia de la música. Un encuentro para
  disfrutar de la energía y la magia de tocar en grupo.
ATTACH;FMTTYPE=image/jpeg:https://blogs.santosochoa.es/logrono/wp-content/
 uploads/sites/2/2026/04/2026-05-19-Guitarra-SANTOS-OCHOA_Piccolo-y-Saxo.jp
 g
LOCATION:Santos Ochoa CALVO SOTELO\, 19\, Calvo Sotelo\, 19\, Logroño\, Es
 paña
X-APPLE-STRUCTURED-LOCATION;VALUE=URI;X-ADDRESS=Calvo Sotelo\, 19\, Logroñ
 o\, España;X-APPLE-RADIUS=100;X-TITLE=Santos Ochoa CALVO SOTELO\, 19:geo:
 0,0
END:VEVENT
BEGIN:VTIMEZONE
TZID:Europe/Madrid
X-LIC-LOCATION:Europe/Madrid
BEGIN:DAYLIGHT
DTSTART:20260329T030000
TZOFFSETFROM:+0100
TZOFFSETTO:+0200
TZNAME:CEST
END:DAYLIGHT
END:VTIMEZONE
END:VCALENDAR