BEGIN:VCALENDAR
VERSION:2.0
PRODID:-//wp-events-plugin.com//7.2.3.1//EN
TZID:Europe/Madrid
X-WR-TIMEZONE:Europe/Madrid
BEGIN:VEVENT
UID:0-849@blogs.santosochoa.es
DTSTART;TZID=Europe/Madrid:20260522T180000
DTEND;TZID=Europe/Madrid:20260522T190000
DTSTAMP:20260420T105906Z
URL:https://blogs.santosochoa.es/logrono/eventos/mayo-musical-contando-can
 ciones/
SUMMARY:Mayo Musical. "Contando Canciones". Un cuento de Píccolo y Saxo
DESCRIPTION:Dicen que las historias más bellas no se escriben con palabras
 \, sino con sonidos. En este nuevo cuento\, la colectiva de viento y cuerd
 a de Píccolo y Saxo nos revelan un cuento hecho de melodías\, silencios 
 y magia.\nCada canción es una página que se abre al público: un relato 
 donde los instrumentos son personajes y las notas dibujan paisajes que hab
 lan de amistad\, juego y aprendizaje. “Contando Canciones” es mucho m
 ás que un concierto: es una invitación a escuchar y dejarse llevar por l
 a imaginación.\n\nVen a descubrir cómo suenan las historias cuando las c
 uentan niños y niñas con sus instrumentos.
ATTACH;FMTTYPE=image/jpeg:https://blogs.santosochoa.es/logrono/wp-content/
 uploads/sites/2/2026/04/2026-05-22-Contando-Canciones-SANTOS-OCHOA_Piccolo
 -y-Saxo.jpg
LOCATION:Santos Ochoa CALVO SOTELO\, 19\, Calvo Sotelo\, 19\, Logroño\, Es
 paña
X-APPLE-STRUCTURED-LOCATION;VALUE=URI;X-ADDRESS=Calvo Sotelo\, 19\, Logroñ
 o\, España;X-APPLE-RADIUS=100;X-TITLE=Santos Ochoa CALVO SOTELO\, 19:geo:
 0,0
END:VEVENT
BEGIN:VTIMEZONE
TZID:Europe/Madrid
X-LIC-LOCATION:Europe/Madrid
BEGIN:DAYLIGHT
DTSTART:20260329T030000
TZOFFSETFROM:+0100
TZOFFSETTO:+0200
TZNAME:CEST
END:DAYLIGHT
END:VTIMEZONE
END:VCALENDAR