BEGIN:VCALENDAR
VERSION:2.0
PRODID:-//wp-events-plugin.com//7.2.3.1//EN
TZID:Europe/Madrid
X-WR-TIMEZONE:Europe/Madrid
BEGIN:VEVENT
UID:0-843@blogs.santosochoa.es
DTSTART;TZID=Europe/Madrid:20260508T190000
DTEND;TZID=Europe/Madrid:20260508T203000
DTSTAMP:20260420T104200Z
URL:https://blogs.santosochoa.es/logrono/eventos/lucia-ramos-aisa-tiritita
 ndo-de-frio/
SUMMARY:Lucía Ramos Aísa presenta "Tirititando de frío"
DESCRIPTION:El flamenco\, un arte vivo y misterioso.
ATTACH;FMTTYPE=image/jpeg:https://blogs.santosochoa.es/logrono/wp-content/
 uploads/sites/2/2026/04/tirititando-de-frio_Lucia-Ramos.jpg
END:VEVENT
BEGIN:VTIMEZONE
TZID:Europe/Madrid
X-LIC-LOCATION:Europe/Madrid
BEGIN:DAYLIGHT
DTSTART:20260329T030000
TZOFFSETFROM:+0100
TZOFFSETTO:+0200
TZNAME:CEST
END:DAYLIGHT
END:VTIMEZONE
END:VCALENDAR