BEGIN:VCALENDAR
VERSION:2.0
PRODID:-//wp-events-plugin.com//7.2.3.1//EN
TZID:Europe/Madrid
X-WR-TIMEZONE:Europe/Madrid
BEGIN:VEVENT
UID:0-844@blogs.santosochoa.es
DTSTART;TZID=Europe/Madrid:20260509T190000
DTEND;TZID=Europe/Madrid:20260509T203000
DTSTAMP:20260420T104540Z
URL:https://blogs.santosochoa.es/logrono/eventos/francisco-piniella-las-li
 neas-del-silencio/
SUMMARY:Francisco Piniella presenta "Las líneas del silencio" [Charla con 
 el Autor]
DESCRIPTION:Piniella nos lleva de la mano por las peripecias de un marino a
 rrastrado por los vientos de la mar y de la historia. Una lectura apasiona
 nte y conmovedora.
ATTACH;FMTTYPE=image/jpeg:https://blogs.santosochoa.es/logrono/wp-content/
 uploads/sites/2/2026/04/las-lineas-del-silencio_Francisco-Piniella.jpg
LOCATION:Santos Ochoa CALVO SOTELO\, 19 (y en YouTube)\, Calvo Sotelo\, 19\
 , Logroño\, España
X-APPLE-STRUCTURED-LOCATION;VALUE=URI;X-ADDRESS=Calvo Sotelo\, 19\, Logroñ
 o\, España;X-APPLE-RADIUS=100;X-TITLE=Santos Ochoa CALVO SOTELO\, 19 (y e
 n YouTube):geo:0,0
END:VEVENT
BEGIN:VTIMEZONE
TZID:Europe/Madrid
X-LIC-LOCATION:Europe/Madrid
BEGIN:DAYLIGHT
DTSTART:20260329T030000
TZOFFSETFROM:+0100
TZOFFSETTO:+0200
TZNAME:CEST
END:DAYLIGHT
END:VTIMEZONE
END:VCALENDAR