BEGIN:VCALENDAR
VERSION:2.0
PRODID:-//wp-events-plugin.com//7.2.3.1//EN
TZID:Europe/Madrid
X-WR-TIMEZONE:Europe/Madrid
BEGIN:VEVENT
UID:0-850@blogs.santosochoa.es
DTSTART;TZID=Europe/Madrid:20260522T180000
DTEND;TZID=Europe/Madrid:20260522T193000
DTSTAMP:20260420T110210Z
URL:https://blogs.santosochoa.es/logrono/eventos/firma-de-libros-de-fermin
 -solis/
SUMMARY:Firma de libros de Fermín Solís. "Charles loves Josefa"
DESCRIPTION:XVIII Premio Internacional de Novela Gráfica Fnac-Salamandra G
 raphic 2025.
ATTACH;FMTTYPE=image/jpeg:https://blogs.santosochoa.es/logrono/wp-content/
 uploads/sites/2/2026/04/charles-loves-josefa_Fermin-Solis.jpg
LOCATION:Santos Ochoa. GRAN VÍA\, 55\, Gran Vía\, 55\, Logroño\, España
X-APPLE-STRUCTURED-LOCATION;VALUE=URI;X-ADDRESS=Gran Vía\, 55\, Logroño\,
  España;X-APPLE-RADIUS=100;X-TITLE=Santos Ochoa. GRAN VÍA\, 55:geo:0,0
END:VEVENT
BEGIN:VTIMEZONE
TZID:Europe/Madrid
X-LIC-LOCATION:Europe/Madrid
BEGIN:DAYLIGHT
DTSTART:20260329T030000
TZOFFSETFROM:+0100
TZOFFSETTO:+0200
TZNAME:CEST
END:DAYLIGHT
END:VTIMEZONE
END:VCALENDAR