BEGIN:VCALENDAR
VERSION:2.0
PRODID:-//wp-events-plugin.com//7.2.3.1//EN
TZID:Europe/Madrid
X-WR-TIMEZONE:Europe/Madrid
BEGIN:VEVENT
UID:0-266@blogs.santosochoa.es
DTSTART;TZID=Europe/Madrid:20200703T190000
DTEND;TZID=Europe/Madrid:20200703T203000
DTSTAMP:20200622T091745Z
URL:https://blogs.santosochoa.es/logrono/eventos/emilio-del-rio-firma-cala
 mares-a-la-romana/
SUMMARY:Emilio del Río firma su nuevo libro "Calamares a la Romana". Pide 
 ya tu cita previa
DESCRIPTION:Reserva aquí tu cita\n\n[bookly-form category_id="0" service_i
 d="2" staff_member_id="1"]\n\n¿Qué hemos heredado de los romanos?\n Por 
 supuesto\, la lengua\, el derecho\, la red vial\, los sistemas de conducci
 ón de agua\, etc.\, pero también compartimos con ellos muchas costumbres
  arraigadas en la alimentación\, el ocio\, el deporte\, la moral\, el urb
 anismo\, la educación\, la moda\, los rituales y las fiestas. Un libro de
  curiosidades tratadas con humor\, donde descubriremos que somos romanos\,
  aunque no nos demos cuenta.\n&nbsp\;\n\n¿Vivían los romanos en pisos? 
 ¿Cómo era la vida en una gran ciudad como Roma? ¿Comemos lo mismo que e
 llos? ¿Celebramos las mismas fiestas?\n\n&nbsp\;\n\nEmilio del Río es do
 ctor en Filología Clásica por la Universidad Complutense. Director gener
 al de Bibliotecas\, Archivos y Museos de Madrid\, colabora en el programa 
 De Pe a Pa de Pepa Fernández\, con la sección «Verba Volant»\, dedicad
 a al latín y a la cultura clásica. Su primer libro\, Latín Lovers\, ha 
 sido un éxito de crítica y ventas.
ATTACH;FMTTYPE=image/jpeg:https://blogs.santosochoa.es/logrono/wp-content/
 uploads/sites/2/2020/06/portada_calamares-a-la-romana_emilio-del-rio_20200
 4201732-1-scaled.jpg
LOCATION:Santos Ochoa CALVO SOTELO\, 19\, Calvo Sotelo\, 19\, Logroño\, Es
 paña
X-APPLE-STRUCTURED-LOCATION;VALUE=URI;X-ADDRESS=Calvo Sotelo\, 19\, Logroñ
 o\, España;X-APPLE-RADIUS=100;X-TITLE=Santos Ochoa CALVO SOTELO\, 19:geo:
 0,0
END:VEVENT
BEGIN:VTIMEZONE
TZID:Europe/Madrid
X-LIC-LOCATION:Europe/Madrid
BEGIN:DAYLIGHT
DTSTART:20200329T030000
TZOFFSETFROM:+0100
TZOFFSETTO:+0200
TZNAME:CEST
END:DAYLIGHT
END:VTIMEZONE
END:VCALENDAR